BEGIN:VCALENDAR
VERSION:2.0
PRODID:-//DIHBU - ECPv6.14.1//NONSGML v1.0//EN
CALSCALE:GREGORIAN
METHOD:PUBLISH
X-WR-CALNAME:DIHBU
X-ORIGINAL-URL:https://dihbu.difadi.net
X-WR-CALDESC:Eventos para DIHBU
REFRESH-INTERVAL;VALUE=DURATION:PT1H
X-Robots-Tag:noindex
X-PUBLISHED-TTL:PT1H
BEGIN:VTIMEZONE
TZID:Europe/Madrid
BEGIN:DAYLIGHT
TZOFFSETFROM:+0100
TZOFFSETTO:+0200
TZNAME:CEST
DTSTART:20240331T010000
END:DAYLIGHT
BEGIN:STANDARD
TZOFFSETFROM:+0200
TZOFFSETTO:+0100
TZNAME:CET
DTSTART:20241027T010000
END:STANDARD
END:VTIMEZONE
BEGIN:VEVENT
DTSTART;TZID=Europe/Madrid:20240603T093000
DTEND;TZID=Europe/Madrid:20240607T170000
DTSTAMP:20260422T191431
CREATED:20250710T083354Z
LAST-MODIFIED:20250710T153205Z
UID:5450-1717407000-1717779600@dihbu.difadi.net
SUMMARY:BeDIGITAL 2024
DESCRIPTION:Evento integrado en la BIEMH 2024 Bienal Internacional de Máquina-Herramienta\, que ofrece un escenario clave sobre la aplicación industrial de tecnologías digitales\, donde se expondrán las soluciones más avanzadas en el ámbito de la digitalización industrial.\n  \nBE DIGITAL incluye: \n  \n\nZona Expo\nDigital Talks\nInnovation Workshops\nStartup Village\nNetworking\n\n  \nMás información\n 
URL:https://dihbu.difadi.net/evento/bedigital-2024/
CATEGORIES:external
ATTACH;FMTTYPE=image/png:https://dihbu.difadi.net/wp-content/uploads/2025/12/wBeDIGITAL-2024_ES-Q4Q5g0.png
END:VEVENT
END:VCALENDAR