BEGIN:VCALENDAR
VERSION:2.0
PRODID:-//DIHBU - ECPv6.14.1//NONSGML v1.0//EN
CALSCALE:GREGORIAN
METHOD:PUBLISH
X-WR-CALNAME:DIHBU
X-ORIGINAL-URL:https://dihbu.difadi.net
X-WR-CALDESC:Eventos para DIHBU
REFRESH-INTERVAL;VALUE=DURATION:PT1H
X-Robots-Tag:noindex
X-PUBLISHED-TTL:PT1H
BEGIN:VTIMEZONE
TZID:Europe/Madrid
BEGIN:DAYLIGHT
TZOFFSETFROM:+0100
TZOFFSETTO:+0200
TZNAME:CEST
DTSTART:20250330T010000
END:DAYLIGHT
BEGIN:STANDARD
TZOFFSETFROM:+0200
TZOFFSETTO:+0100
TZNAME:CET
DTSTART:20251026T010000
END:STANDARD
END:VTIMEZONE
BEGIN:VEVENT
DTSTART;TZID=Europe/Madrid:20251029T000000
DTEND;TZID=Europe/Madrid:20251030T235900
DTSTAMP:20260419T151040
CREATED:20250710T104932Z
LAST-MODIFIED:20250710T153951Z
UID:6958-1761696000-1761868740@dihbu.difadi.net
SUMMARY:Madrid TechShow
DESCRIPTION:El Madrid Tech Show es el evento de tecnología líder en España\, dirigido a profesionales y ejecutivos del sector tecnológico. La edición 2025 contará con más de 400 expositores y 350 ponentes.\n  \nLos asistentes podrán explorar innovaciones en áreas como cloud\, ciberseguridad\, big data\, IA\, centros de datos\, eCommerce\, y marketing digital. \n\nEl Madrid Tech Show se compone de siete eventos interrelacionados\, ofreciendo una visión integral del sector tecnológico: \n\nCloud & AI Infrastructure: Enfocado en soluciones de infraestructura en la nube y inteligencia artificial.\nCyber Security World: Dedicado a las últimas tendencias y soluciones en ciberseguridad.\nBig Data & AI World: Explora herramientas y estrategias de big data e inteligencia artificial.\nData Centre World: Aborda innovaciones y mejores prácticas en gestión de centros de datos.\nTechnology for Marketing: Centrado en tecnologías emergentes para el marketing digital.\nE-Show Madrid: Feria líder en e-commerce\, martech y marketing digital.\nHR Technologies: Explora soluciones tecnológicas para la gestión de recursos humanos.\n\n  \nPrograma de Conferencias\n  \nDurante las dos jornadas\, se llevarán a cabo más de 350 presentaciones y paneles\, abarcando temas como: \n\nDigitalización y «quick commerce»\nEvolución del delivery\nPlataformas Low Code\nBig Data\, IA\, Machine Learning y chatbots\nEstrategias para Black Friday\nSostenibilidad en e-commerce\nMejoras en el proceso de compra\n\n  \n  \nMás información\n  \n  \n 
URL:https://dihbu.difadi.net/evento/madrid-techshow/
CATEGORIES:external
ATTACH;FMTTYPE=image/webp:https://dihbu.difadi.net/wp-content/uploads/2025/12/1540595291592-eBzYys.webp
END:VEVENT
END:VCALENDAR